BEGIN:VCALENDAR
VERSION:2.0
PRODID:-//SRC Security Research &amp; Consulting GmbH - ECPv6.15.20//NONSGML v1.0//EN
CALSCALE:GREGORIAN
METHOD:PUBLISH
X-WR-CALNAME:SRC Security Research &amp; Consulting GmbH
X-ORIGINAL-URL:https://src-gmbh.de
X-WR-CALDESC:Veranstaltungen für SRC Security Research &amp; Consulting GmbH
REFRESH-INTERVAL;VALUE=DURATION:PT1H
X-Robots-Tag:noindex
X-PUBLISHED-TTL:PT1H
BEGIN:VTIMEZONE
TZID:Europe/Berlin
BEGIN:DAYLIGHT
TZOFFSETFROM:+0100
TZOFFSETTO:+0200
TZNAME:CEST
DTSTART:20250330T010000
END:DAYLIGHT
BEGIN:STANDARD
TZOFFSETFROM:+0200
TZOFFSETTO:+0100
TZNAME:CET
DTSTART:20251026T010000
END:STANDARD
BEGIN:DAYLIGHT
TZOFFSETFROM:+0100
TZOFFSETTO:+0200
TZNAME:CEST
DTSTART:20260329T010000
END:DAYLIGHT
BEGIN:STANDARD
TZOFFSETFROM:+0200
TZOFFSETTO:+0100
TZNAME:CET
DTSTART:20261025T010000
END:STANDARD
BEGIN:DAYLIGHT
TZOFFSETFROM:+0100
TZOFFSETTO:+0200
TZNAME:CEST
DTSTART:20270328T010000
END:DAYLIGHT
BEGIN:STANDARD
TZOFFSETFROM:+0200
TZOFFSETTO:+0100
TZNAME:CET
DTSTART:20271031T010000
END:STANDARD
END:VTIMEZONE
BEGIN:VEVENT
DTSTART;TZID=Europe/Berlin:20260218T093000
DTEND;TZID=Europe/Berlin:20260219T160000
DTSTAMP:20260423T102157
CREATED:20260127T140308Z
LAST-MODIFIED:20260127T140722Z
UID:10784-1771407000-1771516800@src-gmbh.de
SUMMARY:ID:SMART 2026 Workshop
DESCRIPTION:ID:SMART zählt zu den zentralen europäischen Fachveranstaltungen rund um digitale Identitäten und Sicherheitsinfrastrukturen.Für SRC ist das Format besonders relevant\, da hier technische Tiefe\, regulatorische Entwicklungen und praktische Implementierung zusammenkommen.Der konzentrierte On-Site-Rahmen ermöglicht einen Austausch\, der in großen Konferenzen oft zu kurz kommt.
URL:https://src-gmbh.de/event/idsmart-2026-workshop/
LOCATION:Darmstadt\, Darmstadt
CATEGORIES:Workshop
ATTACH;FMTTYPE=image/png:https://src-gmbh.de/wp-content/uploads/2026/01/Bildschirmfoto-2026-01-27-um-15.04.42-1.png
END:VEVENT
END:VCALENDAR