BEGIN:VCALENDAR
VERSION:2.0
PRODID:-//SRC GmbH - ECPv6.15.18//NONSGML v1.0//EN
CALSCALE:GREGORIAN
METHOD:PUBLISH
X-WR-CALNAME:SRC GmbH
X-ORIGINAL-URL:https://src-gmbh.de/en/
X-WR-CALDESC:Events for SRC GmbH
REFRESH-INTERVAL;VALUE=DURATION:PT1H
X-Robots-Tag:noindex
X-PUBLISHED-TTL:PT1H
BEGIN:VTIMEZONE
TZID:Europe/Berlin
BEGIN:DAYLIGHT
TZOFFSETFROM:+0100
TZOFFSETTO:+0200
TZNAME:CEST
DTSTART:20250330T010000
END:DAYLIGHT
BEGIN:STANDARD
TZOFFSETFROM:+0200
TZOFFSETTO:+0100
TZNAME:CET
DTSTART:20251026T010000
END:STANDARD
BEGIN:DAYLIGHT
TZOFFSETFROM:+0100
TZOFFSETTO:+0200
TZNAME:CEST
DTSTART:20260329T010000
END:DAYLIGHT
BEGIN:STANDARD
TZOFFSETFROM:+0200
TZOFFSETTO:+0100
TZNAME:CET
DTSTART:20261025T010000
END:STANDARD
BEGIN:DAYLIGHT
TZOFFSETFROM:+0100
TZOFFSETTO:+0200
TZNAME:CEST
DTSTART:20270328T010000
END:DAYLIGHT
BEGIN:STANDARD
TZOFFSETFROM:+0200
TZOFFSETTO:+0100
TZNAME:CET
DTSTART:20271031T010000
END:STANDARD
END:VTIMEZONE
BEGIN:VEVENT
DTSTART;VALUE=DATE:20260421
DTEND;VALUE=DATE:20260424
DTSTAMP:20260419T162134
CREATED:20260109T202626Z
LAST-MODIFIED:20260401T141057Z
UID:10702-1776729600-1776988799@src-gmbh.de
SUMMARY:DMEA 2026
DESCRIPTION:The DMEA 2026 provides a space to discuss the current state of digitalization in the healthcare sector – between vision\, regulation and practical implementation. \nSRC is represented in Berlin and brings its perspective on security\, identity management and technical assessment issues. As every year\, our colleagues Dagmar Schoppe and Dr. Jens Putzka will be on site.  \n📅 April 21-23\, 2026📍 Berlin
URL:https://src-gmbh.de/en/event/dmea-2026/
LOCATION:Berlin\, Deutschland
CATEGORIES:eHealth event,Trade fair
ATTACH;FMTTYPE=image/png:https://src-gmbh.de/wp-content/uploads/2026/01/Bildschirmfoto-2026-01-27-um-13.40.05.png
END:VEVENT
BEGIN:VEVENT
DTSTART;TZID=Europe/Berlin:20260910T100000
DTEND;TZID=Europe/Berlin:20260910T150000
DTSTAMP:20260419T162134
CREATED:20260127T135435Z
LAST-MODIFIED:20260127T135644Z
UID:10773-1789034400-1789052400@src-gmbh.de
SUMMARY:gematik exchange of experience between security assessors
DESCRIPTION:The exchange of experience between safety assessors enables an open\, collegial dialog on assessment practice in the TI. In addition to empirical values from audits\, the focus is on current developments and challenges. For us\, this is a relevant format for sharpening professional perspectives and staying in touch.
URL:https://src-gmbh.de/en/event/gematik-exchange-of-experience-between-security-assessors/
LOCATION:Berlin\, Deutschland
CATEGORIES:eHealth event
ATTACH;FMTTYPE=image/png:https://src-gmbh.de/wp-content/uploads/2026/01/Bildschirmfoto-2026-01-27-um-14.55.47.png
END:VEVENT
BEGIN:VEVENT
DTSTART;VALUE=DATE:20261007
DTEND;VALUE=DATE:20261009
DTSTAMP:20260419T162134
CREATED:20260126T184800Z
LAST-MODIFIED:20260127T131652Z
UID:10747-1791331200-1791503999@src-gmbh.de
SUMMARY:TI-SUMMIT 2026
DESCRIPTION:SRC is taking part in TI-SUMMIT 2026 – the trade fair congress and industry summit on the topics of gematik and the applications of the telematics infrastructure (TI and TI 2.0). \nThe TI-SUMMIT brings together more than 1\,000 experts from all areas of healthcare and addresses key developments such as ePA\, e-prescription\, KIM\, TI-Messenger\, TI-Gateway\, PoPP\, digital identities and the use of AI in TI. Following the successful first edition in 2025\, the event will take place for the second time in 2026.  \nFor SRC\, the TI-SUMMIT is a relevant platform for professional exchange on security requirements\, regulatory framework conditions and the practical implementation of the telematics infrastructure in the digitally networked healthcare system.
URL:https://src-gmbh.de/en/event/ti-summit-2026/
LOCATION:Leipzig
CATEGORIES:eHealth event
ATTACH;FMTTYPE=image/png:https://src-gmbh.de/wp-content/uploads/2026/01/Bildschirmfoto-2026-01-26-um-19.44.04.png
END:VEVENT
END:VCALENDAR